BEGIN:VCALENDAR
VERSION:2.0
PRODID:-//Bowie Swim &amp; Dive - ECPv6.15.20//NONSGML v1.0//EN
CALSCALE:GREGORIAN
METHOD:PUBLISH
X-ORIGINAL-URL:https://bowieswimming.org
X-WR-CALDESC:Events for Bowie Swim &amp; Dive
REFRESH-INTERVAL;VALUE=DURATION:PT1H
X-Robots-Tag:noindex
X-PUBLISHED-TTL:PT1H
BEGIN:VTIMEZONE
TZID:UTC
BEGIN:STANDARD
TZOFFSETFROM:+0000
TZOFFSETTO:+0000
TZNAME:UTC
DTSTART:20210101T000000
END:STANDARD
END:VTIMEZONE
BEGIN:VEVENT
DTSTART;VALUE=DATE:20221118
DTEND;VALUE=DATE:20221119
DTSTAMP:20260425T210018
CREATED:20220928T051313Z
LAST-MODIFIED:20221116T020432Z
UID:1797-1668729600-1668815999@bowieswimming.org
SUMMARY:Tri Meet:  Bowie vs Dripping Springs vs Johnson
DESCRIPTION:Johnson High School Invitational\nHosted By: Johnson High School \nDate: Friday\, November 18\, 2022 \nLocation:  YMCA Camp Moody 1220 Old San Antonio Rd\, Buda\, TX 78760 \nTransportation & School: There will be NO bus for this meet. \nSchedule:  Warm Up: 1pm  / Meet Start Time: 2pm  / End time: TBD \nSchool/ Excused: All competing swimmers will be excused for a full day. \nEvents: Regular high school meet \nMeals: Food will be provided \nSpectators & Volunteering:  Seating is first come\, first served basis. In need of 2 timers for the meet.
URL:https://bowieswimming.org/event/tri-meet-bowie-vs-dripping-springs-vs-johnson/
LOCATION:Camp Moody YMCA\, 1220 Old San Antonio Rd\, Buda\, TX\, 78610\, United States
CATEGORIES:Swim/Dive Meets
END:VEVENT
END:VCALENDAR