BEGIN:VCALENDAR
VERSION:2.0
PRODID:-//Bowie Swim &amp; Dive - ECPv6.15.20//NONSGML v1.0//EN
CALSCALE:GREGORIAN
METHOD:PUBLISH
X-WR-CALNAME:Bowie Swim &amp; Dive
X-ORIGINAL-URL:https://bowieswimming.org
X-WR-CALDESC:Events for Bowie Swim &amp; Dive
REFRESH-INTERVAL;VALUE=DURATION:PT1H
X-Robots-Tag:noindex
X-PUBLISHED-TTL:PT1H
BEGIN:VTIMEZONE
TZID:UTC
BEGIN:STANDARD
TZOFFSETFROM:+0000
TZOFFSETTO:+0000
TZNAME:UTC
DTSTART:20220101T000000
END:STANDARD
END:VTIMEZONE
BEGIN:VEVENT
DTSTART;VALUE=DATE:20230114
DTEND;VALUE=DATE:20230115
DTSTAMP:20260425T155216
CREATED:20220928T052519Z
LAST-MODIFIED:20220928T052519Z
UID:1809-1673654400-1673740799@bowieswimming.org
SUMMARY:Last Chance Meet - Tentative
DESCRIPTION:The date has not been set.  This is a tentative date.
URL:https://bowieswimming.org/event/last-chance-meet-tentative/
LOCATION:TX
CATEGORIES:Swim/Dive Meets
END:VEVENT
BEGIN:VEVENT
DTSTART;TZID=UTC:20230127T100000
DTEND;TZID=UTC:20230127T160000
DTSTAMP:20260425T155216
CREATED:20220928T052414Z
LAST-MODIFIED:20230127T071851Z
UID:1807-1674813600-1674835200@bowieswimming.org
SUMMARY:District 26-6A Swim and Dive Championship
DESCRIPTION:LOCATION:  Round Rock ISD Aquatic Center \nDATE/TIME:  Friday\, January 27\, 2023\nWarmup:  8:45am – 9:25am\nDiving Competition Start:  9:45am\nSwimming Competition Start:  10am \nDocument Links:\n2023 AISD District Swim Meet Information Sheet\nHeat Sheets\nMeet Timeline \nClick Here to Purchase Tickets
URL:https://bowieswimming.org/event/district-26-6a-championship/
LOCATION:Round Rock Aquatic Center\, 2801 Gattis School Road\, Round Rock\, TX\, 78664\, United States
CATEGORIES:Swim/Dive Meets
END:VEVENT
END:VCALENDAR