BEGIN:VCALENDAR
VERSION:2.0
PRODID:-//Bowie Swim &amp; Dive - ECPv6.15.20//NONSGML v1.0//EN
CALSCALE:GREGORIAN
METHOD:PUBLISH
X-WR-CALNAME:Bowie Swim &amp; Dive
X-ORIGINAL-URL:https://bowieswimming.org
X-WR-CALDESC:Events for Bowie Swim &amp; Dive
REFRESH-INTERVAL;VALUE=DURATION:PT1H
X-Robots-Tag:noindex
X-PUBLISHED-TTL:PT1H
BEGIN:VTIMEZONE
TZID:UTC
BEGIN:STANDARD
TZOFFSETFROM:+0000
TZOFFSETTO:+0000
TZNAME:UTC
DTSTART:20210101T000000
END:STANDARD
END:VTIMEZONE
BEGIN:VEVENT
DTSTART;VALUE=DATE:20221202
DTEND;VALUE=DATE:20221204
DTSTAMP:20260425T174350
CREATED:20220928T052121Z
LAST-MODIFIED:20221202T034908Z
UID:1805-1669939200-1670111999@bowieswimming.org
SUMMARY:TISCA - San Antonio
DESCRIPTION:DOCUMENTS/LINKS:\nMeet Details\n2022 TISCA Timeline\n2022 TISCA Psych Sheet Updated\n2022 TISCA seating chart\n2022 TISCA warm up assignments\nParking Map \nLocation: Bill Walker Pool & Josh Davis Nataorium\nBlossom Athletic Center (Northeast Stadium)\nJones-Maltsberger Road at Starcrest Drive or East Bitters Road\nSan Antonio\, TX 78216\n210-356-6925 \nSwimming for Prelims & Finals: Bill Walker Pool\nSchedule (both Friday & Saturday): \nSwimming Preliminaries:\n– Swimmers arrive no later than 7:45 am- Please plan for extra time if you are leaving Austin Friday morning!\n– Warm Up: 8:00 am / Start: 9:45 am \nSwimming Finals:\n– Arrive no later than 3:45 pm\n– Warm Up: 4:00 pm /Start: 5:00 pm \nTransportation & Hotels:  Families travel on their own. If you are in need of carpooling help\, please reach out to Coach Carr or Kayla Chalmers ASAP. \nSwimmers:\n–  Positive attitudes and fast swims only!\n–  Bring extra suits\, towels\, caps and goggles!\n–  Bring water and any necessary snacks!\n–  TOP 16 advance to Finals for individual events\n–  TOP 8 advance to Finals for relays\n–  Relays are subject to change. I will decide who swim in each relay depending on how everyone feels.\n–  Those competing Friday are excused the full B Day. \nParents/Guardians/ SPECTATORS:\nTickets for this event will be sold online through the following link ONLY:\nTISCA: Purchase Tickets \n-Spectators must enter via the Davis Natatorium front doors\n-NEISD’s Clear Bag Policy (Page #9 of the Meet Details Packet) will be strictly enforced.\n-No Outside Food or Drink is permitted in the buildings. Water Refill stations are available around the facilities and the concession stand will be open. \n  \n 
URL:https://bowieswimming.org/event/tisca-tentative/
LOCATION:Josh Davis Natatorium & Bill Walker Pool\, 12002 Jones Maltsberger Rd\, San Antonio\, TX\, 78216\, United States
CATEGORIES:Swim/Dive Meets
END:VEVENT
BEGIN:VEVENT
DTSTART;TZID=UTC:20221209T080000
DTEND;TZID=UTC:20221209T110000
DTSTAMP:20260425T174350
CREATED:20220928T051423Z
LAST-MODIFIED:20220928T051423Z
UID:1801-1670572800-1670583600@bowieswimming.org
SUMMARY:Westlake Dive Invitational #2
DESCRIPTION:
URL:https://bowieswimming.org/event/westlake-dive-invitational-2/
LOCATION:Eanes Aquatic Facility\, 1301 S Capital of Texas Hwy\, Austin\, TX\, 78746\, United States
CATEGORIES:Swim/Dive Meets
END:VEVENT
END:VCALENDAR