BEGIN:VCALENDAR
VERSION:2.0
PRODID:-//Bowie Swim &amp; Dive - ECPv6.15.20//NONSGML v1.0//EN
CALSCALE:GREGORIAN
METHOD:PUBLISH
X-WR-CALNAME:Bowie Swim &amp; Dive
X-ORIGINAL-URL:https://bowieswimming.org
X-WR-CALDESC:Events for Bowie Swim &amp; Dive
REFRESH-INTERVAL;VALUE=DURATION:PT1H
X-Robots-Tag:noindex
X-PUBLISHED-TTL:PT1H
BEGIN:VTIMEZONE
TZID:UTC
BEGIN:STANDARD
TZOFFSETFROM:+0000
TZOFFSETTO:+0000
TZNAME:UTC
DTSTART:20210101T000000
END:STANDARD
END:VTIMEZONE
BEGIN:VEVENT
DTSTART;TZID=UTC:20221111T090000
DTEND;TZID=UTC:20221111T140000
DTSTAMP:20260425T192223
CREATED:20220928T045845Z
LAST-MODIFIED:20221109T200448Z
UID:1784-1668157200-1668175200@bowieswimming.org
SUMMARY:Westlake Dive Invitational #1
DESCRIPTION:Location:  Eanes Aquatic Center 4300 Westbank Drive\, Unit 4 West Lake Hills\, TX 78746 \nTransportation & School: There will be NO bus for this meet.. \nWarm Up: 9-10:30am \nDive Competition Start: 10:30 am \nEnd time: TBD \nSchool/ Excused: All competing divers will be excused for a full day. \nEvents: 6 OR 11 dives \nMeals: Lunch will be provided \nSpectators & Volunteering:  Spectators are welcome\, and can sit on the bleachers located on the parking lot side of the pool \nParking: Remember not to park in numbered spots-  map is attached
URL:https://bowieswimming.org/event/westlake-dive-invitational-1/
LOCATION:Eanes Aquatic Facility\, 1301 S Capital of Texas Hwy\, Austin\, TX\, 78746\, United States
CATEGORIES:Swim/Dive Meets
END:VEVENT
BEGIN:VEVENT
DTSTART;VALUE=DATE:20221112
DTEND;VALUE=DATE:20221113
DTSTAMP:20260425T192223
CREATED:20220928T050452Z
LAST-MODIFIED:20221109T200734Z
UID:1789-1668211200-1668297599@bowieswimming.org
SUMMARY:Aggieland
DESCRIPTION:Below is the timeline for Aggieland.  Coach Carr will be sending heat sheets\, parking instructions\, and other details later this week.\n\n\nStudents need to be at Bowie no later than 5:40 AM.\nThe bus will depart Bowie at 6:00 AM (latest 6:15 AM).\nWe will provide a light breakfast – mini muffins\, fruit\, juice\, water\, and milk.\nThe bus arrives at Texas A&M Recreational Center around 8:00 AM\nSwimmers/Divers will enter the Natatorium at 8:15 AM\nWarmups begin at 8:45 AM\nPrelims start at 10:15 AM\nLunch will be delivered (or parents pickup) at 12:30 PM.  Lunch will be served like last year on the front lawn with tents for shade AFTER Prelims is over.  The students can relax and take naps\, etc. but stay with the group\, unless otherwise instructed.\nSwimmers/Divers will enter the Natatorium together at 4:15 PM.\nGirls Diving and Finals warm-up 4:30 PM\nGirls Diving meet starts at 5:00 PM (All swimmers watching and cheering from the stands)\nSwim Finals meet begins at 5:30 PM\nBoys Diving warm up at 6:00 PM\nBoys Diving meet begins at 6:30 PM\nAll events will be over around 7:30 PM\nEveryone is back on the bus no later than 15 minutes after the meet and awards.\nThe Bus departs Texas A&M around 8:00 PM\nDinner will be provided on the bus ride home.\nThe Bus arrives back at Bowie around 10:00 PM.\n\nALL Students will ride the bus from Bowie High School to Texas A&M and back home on November 12\, 2022.  If your student will not be riding the bus\, coaches MUST receive written notification at least one week in advance.
URL:https://bowieswimming.org/event/aggieland/
LOCATION:Texas A&M\, 187 Corrington Dr\, College Station\, TX\, 77843\, United States
CATEGORIES:Swim/Dive Meets
END:VEVENT
BEGIN:VEVENT
DTSTART;TZID=UTC:20221117T073000
DTEND;TZID=UTC:20221117T080000
DTSTAMP:20260425T192223
CREATED:20220928T050932Z
LAST-MODIFIED:20221114T215701Z
UID:1793-1668670200-1668672000@bowieswimming.org
SUMMARY:Freshmen Breakfast
DESCRIPTION:Each year the Bowie Swim & Dive team freshman kids host “Freshman Breakfast”. Freshman breakfast is when the freshman swimmers and parents buy/prepare and serve breakfast to the entire team! This year the Freshman Breakfast will be on Thursday\, November 17\, 2022\, and I need 2 parents to volunteer to be the head volunteer parents for this event. This is first come/first serve on whoever texts Melinda Ferguson at 512-627-9858 first with their name and swimmer’s name!\n\nOnce we have the head volunteers\, they will send a sign-up out to all the other freshman parents so there will be lots of opportunities to help if you don’t make it 1st or 2nd. We hope you all can come and enjoy this fun event for our Freshmen:)
URL:https://bowieswimming.org/event/freshmen-breakfast/
LOCATION:Circle C Aquatic Center\, 5919 La Crosse Ave #100\, Austin\, TX\, 78739\, United States
CATEGORIES:Non-Meet Events
ORGANIZER;CN="Melinda Ferguson":MAILTO:melindaferguson@gmail.com
END:VEVENT
BEGIN:VEVENT
DTSTART;VALUE=DATE:20221118
DTEND;VALUE=DATE:20221119
DTSTAMP:20260425T192223
CREATED:20220928T051313Z
LAST-MODIFIED:20221116T020432Z
UID:1797-1668729600-1668815999@bowieswimming.org
SUMMARY:Tri Meet:  Bowie vs Dripping Springs vs Johnson
DESCRIPTION:Johnson High School Invitational\nHosted By: Johnson High School \nDate: Friday\, November 18\, 2022 \nLocation:  YMCA Camp Moody 1220 Old San Antonio Rd\, Buda\, TX 78760 \nTransportation & School: There will be NO bus for this meet. \nSchedule:  Warm Up: 1pm  / Meet Start Time: 2pm  / End time: TBD \nSchool/ Excused: All competing swimmers will be excused for a full day. \nEvents: Regular high school meet \nMeals: Food will be provided \nSpectators & Volunteering:  Seating is first come\, first served basis. In need of 2 timers for the meet.
URL:https://bowieswimming.org/event/tri-meet-bowie-vs-dripping-springs-vs-johnson/
LOCATION:Camp Moody YMCA\, 1220 Old San Antonio Rd\, Buda\, TX\, 78610\, United States
CATEGORIES:Swim/Dive Meets
END:VEVENT
END:VCALENDAR