BEGIN:VCALENDAR
VERSION:2.0
PRODID:-//Bowie Swim &amp; Dive - ECPv6.15.20//NONSGML v1.0//EN
CALSCALE:GREGORIAN
METHOD:PUBLISH
X-WR-CALNAME:Bowie Swim &amp; Dive
X-ORIGINAL-URL:https://bowieswimming.org
X-WR-CALDESC:Events for Bowie Swim &amp; Dive
REFRESH-INTERVAL;VALUE=DURATION:PT1H
X-Robots-Tag:noindex
X-PUBLISHED-TTL:PT1H
BEGIN:VTIMEZONE
TZID:UTC
BEGIN:STANDARD
TZOFFSETFROM:+0000
TZOFFSETTO:+0000
TZNAME:UTC
DTSTART:20210101T000000
END:STANDARD
END:VTIMEZONE
BEGIN:VEVENT
DTSTART;TZID=UTC:20221007T090000
DTEND;TZID=UTC:20221007T150000
DTSTAMP:20260425T205012
CREATED:20220928T044319Z
LAST-MODIFIED:20221005T020143Z
UID:1767-1665133200-1665154800@bowieswimming.org
SUMMARY:MavWood Invitational
DESCRIPTION:A parking map is attached. Parking at the Round Rock Aquatic Center is tight\, and it’s a 5-ish minute walk from the overflow parking area. We will have people posted at the front door if you would like to drop off equipment\, chairs\, tents\, etc.\n\nParents may want to bring bleacher seats. There is a good amount of bleacher seating – but it’s a long day on metal\, backless seats. We recommend a cushion with a back! There is also some space available behind the bleachers where you can set up your own chair. That space will fill up quickly!\n\nThere will be a hospitality area for coaches and officials\, and a small concession stand selling limited amounts of water\, Gatorade\, soda\, coffee\, breakfast tacos\, snacks\, fruit\, and Chick-Fil-A sandwiches (or a sandwich combo – sandwich\, chips\, drink). We can accept cash and credit cards.\n\nParking Map\nMavWood Team\nMeet Details\nSign up to volunteer here: https://www.signupgenius.com/go/60B044AA9AF29A46-mavwood
URL:https://bowieswimming.org/event/mavwood-invitational/
LOCATION:Round Rock Aquatic Center\, 2801 Gattis School Road\, Round Rock\, TX\, 78664\, United States
CATEGORIES:Swim/Dive Meets
END:VEVENT
BEGIN:VEVENT
DTSTART;TZID=UTC:20221028T085000
DTEND;TZID=UTC:20221028T124500
DTSTAMP:20260425T205012
CREATED:20220928T045444Z
LAST-MODIFIED:20221027T015526Z
UID:1781-1666947000-1666961100@bowieswimming.org
SUMMARY:Austin Invitational
DESCRIPTION:AISD Invite Hosted by AISD Schools:  Anderson\, Ann Richards\, Austin High\, Bowie\, Crockett\, LASA\, McCallum. \nTeams: Anderson\, Ann Richards\, Austin High\, Bowie\, Crockett\, LASA\, McCallum \nDate: Friday\, October 28\, 2022 \nLocation:  Lee and Joe Jamail Texas Swim Center 1900 Robert Dedman Drive Austin\, Texas 78712 \nTransportation & School: There will be NO bus for this meet. If any swimmers need help getting to the meet in the morning\, please reach out to the coaches ASAP. \nWarm Up:  8:50-9:10\, Divers will be the same time. \nSwim & Dive Competition Start: 9:30 am (dive will run in the dive well during the meet) \nEnd time: 12:45pm \nSchool/ Excused: All competing swimmers and swimmers coming to cheer will be excused for a full day. If you come to cheer – you will not be permitted on deck\, you will have to sit in the stands. If you are not cheering\, you will not be excused and will be expected to attend school for the full day. \nEvents:  HS swim meet and diving \nEntries: Only 38 athletes are entered\, if you have questions please email me. Everyone is welcome to sit in the stands and cheer. \nMeals: All athletes competing will be provided food at the meet. \nSpectators & Volunteering: All are welcome to attend! There are no tickets needed to enter the Joe Jamal Swim Center on Friday. \nParking: here’s the link for the parking garage for the meet. Parking will be in the Health Center Garage and here you are able to purchase passes online in advance. 🙂 It is $15 and allows multiple in/out access for that one fee. https://utparking.clickandpark.com/
URL:https://bowieswimming.org/event/austin-invitational/
LOCATION:UT – Jamail Texas Swimming Center\, 1900 Red River St.\, Austin\, TX\, 78712\, United States
CATEGORIES:Swim/Dive Meets
END:VEVENT
END:VCALENDAR