BEGIN:VCALENDAR
VERSION:2.0
PRODID:-//Bowie Swim &amp; Dive - ECPv6.15.20//NONSGML v1.0//EN
CALSCALE:GREGORIAN
METHOD:PUBLISH
X-WR-CALNAME:Bowie Swim &amp; Dive
X-ORIGINAL-URL:https://bowieswimming.org
X-WR-CALDESC:Events for Bowie Swim &amp; Dive
REFRESH-INTERVAL;VALUE=DURATION:PT1H
X-Robots-Tag:noindex
X-PUBLISHED-TTL:PT1H
BEGIN:VTIMEZONE
TZID:America/Chicago
BEGIN:DAYLIGHT
TZOFFSETFROM:-0600
TZOFFSETTO:-0500
TZNAME:CDT
DTSTART:20230312T080000
END:DAYLIGHT
BEGIN:STANDARD
TZOFFSETFROM:-0500
TZOFFSETTO:-0600
TZNAME:CST
DTSTART:20231105T070000
END:STANDARD
BEGIN:DAYLIGHT
TZOFFSETFROM:-0600
TZOFFSETTO:-0500
TZNAME:CDT
DTSTART:20240310T080000
END:DAYLIGHT
BEGIN:STANDARD
TZOFFSETFROM:-0500
TZOFFSETTO:-0600
TZNAME:CST
DTSTART:20241103T070000
END:STANDARD
BEGIN:DAYLIGHT
TZOFFSETFROM:-0600
TZOFFSETTO:-0500
TZNAME:CDT
DTSTART:20250309T080000
END:DAYLIGHT
BEGIN:STANDARD
TZOFFSETFROM:-0500
TZOFFSETTO:-0600
TZNAME:CST
DTSTART:20251102T070000
END:STANDARD
END:VTIMEZONE
BEGIN:VTIMEZONE
TZID:UTC
BEGIN:STANDARD
TZOFFSETFROM:+0000
TZOFFSETTO:+0000
TZNAME:UTC
DTSTART:20230101T000000
END:STANDARD
END:VTIMEZONE
BEGIN:VTIMEZONE
TZID:UTC
BEGIN:STANDARD
TZOFFSETFROM:+0000
TZOFFSETTO:+0000
TZNAME:UTC
DTSTART:20220101T000000
END:STANDARD
END:VTIMEZONE
BEGIN:VEVENT
DTSTART;TZID=America/Chicago:20241108T180000
DTEND;TZID=America/Chicago:20241108T200000
DTSTAMP:20260423T053440
CREATED:20240903T205746Z
LAST-MODIFIED:20241108T184908Z
UID:3222-1731088800-1731096000@bowieswimming.org
SUMMARY:Bowie Swim - Aggieland Team Dinner
DESCRIPTION:
URL:https://bowieswimming.org/event/bowie-swim-aggieland-team-dinner/
LOCATION:Archer House\, 7011 Magenta Ln\, Austin\, TX\, 78739\, United States
CATEGORIES:Non-Meet Events
END:VEVENT
BEGIN:VEVENT
DTSTART;TZID=America/Chicago:20241025T080000
DTEND;TZID=America/Chicago:20241025T140000
DTSTAMP:20260423T053440
CREATED:20240903T205746Z
LAST-MODIFIED:20241025T180407Z
UID:3221-1729843200-1729864800@bowieswimming.org
SUMMARY:Bowie Swim - AISD Invite
DESCRIPTION:Times subject to change\nTop 4 swimmers per event\, A relays only!
URL:https://bowieswimming.org/event/bowie-swim-aisd-invite/
LOCATION:Jamail Texas Swimming Center\, 77 Red River St\, Austin\, TX\, United States
END:VEVENT
BEGIN:VEVENT
DTSTART;TZID=America/Chicago:20241014T140000
DTEND;TZID=America/Chicago:20241014T160000
DTSTAMP:20260423T053440
CREATED:20241008T174907Z
LAST-MODIFIED:20241014T180407Z
UID:3316-1728914400-1728921600@bowieswimming.org
SUMMARY:Bowie Swim - Team Building Bowlathon
DESCRIPTION:
URL:https://bowieswimming.org/event/bowie-swim-team-building-bowlathon/
LOCATION:Westgate Lanes\, 100 W William Cannon Dr\, Austin\, TX\, United States
END:VEVENT
BEGIN:VEVENT
DTSTART;TZID=America/Chicago:20241010T070000
DTEND;TZID=America/Chicago:20241010T110000
DTSTAMP:20260423T053440
CREATED:20240903T205746Z
LAST-MODIFIED:20241009T174908Z
UID:3220-1728543600-1728558000@bowieswimming.org
SUMMARY:Bowie Swim - Drip v. Bowie
DESCRIPTION:Times subject to change
URL:https://bowieswimming.org/event/bowie-swim-drip-v-bowie/
LOCATION:Springs Family YMCA\, 22503 Ranch Rd 12\, San Marcos\, TX\, United States
END:VEVENT
BEGIN:VEVENT
DTSTART;TZID=America/Chicago:20241003T074500
DTEND;TZID=America/Chicago:20241003T154500
DTSTAMP:20260423T053440
CREATED:20240903T205746Z
LAST-MODIFIED:20241003T171908Z
UID:3219-1727941500-1727970300@bowieswimming.org
SUMMARY:Bowie Swim - Mavwood Invite
DESCRIPTION:Times subject to change\nCarpool Link: https://docs.google.com/spreadsheets/d/1S6sPWVu3wpiuB_4aXxBPMrbEWJyzAN3SmQIvOfpM6JM/edit?pli=1&gid=1655257163#gid=1655257163
URL:https://bowieswimming.org/event/bowie-swim-mavwood-invite/
LOCATION:RRISD Aquatic Center\, 1000 Gattis School Rd\, Round Rock\, TX\, United States
END:VEVENT
BEGIN:VEVENT
DTSTART;TZID=America/Chicago:20240927T080000
DTEND;TZID=America/Chicago:20240927T140000
DTSTAMP:20260423T053440
CREATED:20240903T205746Z
LAST-MODIFIED:20240927T170406Z
UID:3218-1727424000-1727445600@bowieswimming.org
SUMMARY:Bowie Swim - District Sprint Meet
DESCRIPTION:Times are subject to change
URL:https://bowieswimming.org/event/bowie-swim-district-sprint-meet/
LOCATION:Eanes Aquatics Center\, 901 Westbank Dr\, Austin\, TX\, United States
END:VEVENT
BEGIN:VEVENT
DTSTART;TZID=America/Chicago:20240918T063000
DTEND;TZID=America/Chicago:20240918T073000
DTSTAMP:20260423T053440
CREATED:20240903T205746Z
LAST-MODIFIED:20240917T163410Z
UID:3217-1726641000-1726644600@bowieswimming.org
SUMMARY:Bowie Swim - Red v Black
DESCRIPTION:Teams will be announced before this event
URL:https://bowieswimming.org/event/bowie-swim-red-v-black/
LOCATION:Circle C Swim Center\, 4801 la Crosse Ave\, Austin\, TX\, United States
END:VEVENT
BEGIN:VEVENT
DTSTART;TZID=America/Chicago:20240911T060000
DTEND;TZID=America/Chicago:20240911T080000
DTSTAMP:20260423T053440
CREATED:20240903T205745Z
LAST-MODIFIED:20240910T163411Z
UID:3216-1726034400-1726041600@bowieswimming.org
SUMMARY:Bowie Swim - King & Queens Biathlon
DESCRIPTION:
URL:https://bowieswimming.org/event/bowie-swim-king-queens-biathlon/
LOCATION:Barton Springs Municipal Pool\, 101 Barton Springs Rd\, Austin\, TX\, United States
END:VEVENT
BEGIN:VEVENT
DTSTART;TZID=UTC:20240909T143000
DTEND;TZID=UTC:20240909T153500
DTSTAMP:20260423T053440
CREATED:20240903T205745Z
LAST-MODIFIED:20240908T213410Z
UID:3215-1725892200-1725896100@bowieswimming.org
SUMMARY:Bowie Swim - Captain Speeches + Voting
DESCRIPTION:1 Junior 2 Senior captains
URL:https://bowieswimming.org/event/bowie-swim-captain-speeches-voting/
LOCATION:Bowie Cafeteria
END:VEVENT
BEGIN:VEVENT
DTSTART;TZID=UTC:20240907T210000
DTEND;TZID=UTC:20240908T010000
DTSTAMP:20260423T053440
CREATED:20240903T205745Z
LAST-MODIFIED:20240907T211909Z
UID:3214-1725742800-1725757200@bowieswimming.org
SUMMARY:Bowie Swim - Bulldogs & Hotdogs
DESCRIPTION:
URL:https://bowieswimming.org/event/bowie-swim-bulldogs-hotdogs/
LOCATION:Bowie Courtyard
END:VEVENT
BEGIN:VEVENT
DTSTART;TZID=UTC:20240904T223000
DTEND;TZID=UTC:20240904T233000
DTSTAMP:20260423T053440
CREATED:20240903T205745Z
LAST-MODIFIED:20240904T210407Z
UID:3213-1725489000-1725492600@bowieswimming.org
SUMMARY:Bowie Swim - Swim & Dive Parent Meeting & Pictures
DESCRIPTION:Please wear Bowie Jacket. We will have a few extras if needed.
URL:https://bowieswimming.org/event/bowie-swim-swim-dive-parent-meeting-pictures/
LOCATION:Bowie Cafeteria
END:VEVENT
BEGIN:VEVENT
DTSTART;TZID=UTC:20240518T110000
DTEND;TZID=UTC:20240518T130000
DTSTAMP:20260423T053440
CREATED:20240413T133035Z
LAST-MODIFIED:20240515T003626Z
UID:2971-1716030000-1716037200@bowieswimming.org
SUMMARY:2024 Swim Team Tryouts - 5/18 @ 11am
DESCRIPTION:More Info here: Swim Team Tryouts for 24-25 School Year \nTime:  11AM
URL:https://bowieswimming.org/event/2024-team-tryouts/
LOCATION:Circle C Aquatic Center\, 5919 La Crosse Ave #100\, Austin\, TX\, 78739\, United States
END:VEVENT
BEGIN:VEVENT
DTSTART;VALUE=DATE:20240209
DTEND;VALUE=DATE:20240211
DTSTAMP:20260423T053440
CREATED:20240110T071834Z
LAST-MODIFIED:20240208T062523Z
UID:2937-1707436800-1707609599@bowieswimming.org
SUMMARY:Region 7-6A Swim and Dive Championship
DESCRIPTION:LOCATION\nJosh Davis Natatorium\n12002 Jones Maltsberger Rd\nSan Antonio\, TX 78216 \nDOCUMENTS/LINKS:\n2024_Region_VII-6A Championship Meet Info\nRegion 7-6A Championship Meet Timeline
URL:https://bowieswimming.org/event/region-7-6a-swim-and-dive-championship-2/
LOCATION:Josh Davis Natatorium & Bill Walker Pool\, 12002 Jones Maltsberger Rd\, San Antonio\, TX\, 78216\, United States
END:VEVENT
BEGIN:VEVENT
DTSTART;TZID=UTC:20240126T140000
DTEND;TZID=UTC:20240126T180000
DTSTAMP:20260423T053440
CREATED:20240110T071414Z
LAST-MODIFIED:20240125T025608Z
UID:2934-1706277600-1706292000@bowieswimming.org
SUMMARY:District 26-6A Swimming Championship Meet
DESCRIPTION:2023-2024 District 26-6A Swimming Championship Meet \nLOCATION:  Round Rock ISD Aquatic Center \nDATE/TIME:  Friday\, January 26\, 2024\nWarmup:  3:30pm to 4:10pm\nSwimming Competition Start:  4:30pm \nDocument Links:\n2024 AISD District Swim Meet\nDistrict-26-6A-Timeline_-_Final[1]\n26-6A_District_Warm-up_Schedule[1]\n6A_Pool_layout_2024_District_Meet(1)
URL:https://bowieswimming.org/event/district-26-6a-swim-and-dive-championship/
LOCATION:Round Rock Aquatic Center\, 2801 Gattis School Road\, Round Rock\, TX\, 78664\, United States
CATEGORIES:Swim/Dive Meets
END:VEVENT
BEGIN:VEVENT
DTSTART;TZID=UTC:20240125T113000
DTEND;TZID=UTC:20240125T160000
DTSTAMP:20260423T053440
CREATED:20240112T215647Z
LAST-MODIFIED:20240125T025521Z
UID:2944-1706182200-1706198400@bowieswimming.org
SUMMARY:District 26-6A Diving Championship Meet
DESCRIPTION:2023-2024 District 26-6A Diving Championship Meet \nLOCATION:  Round Rock ISD Aquatic Center \nDATE/TIME:  Thursday\, January 25\, 2024\nCheck In:  12pm to 1pm\nWarmup:  1pm to 1:30pm\nStart Time:  10-20 minutes after warm-ups \nNOTES:\nCheck-ins will start at noon.\nDiving warm-ups for all divers will start as soon as ALL divers have checked in.\nGirls event will start at 2pm (fingers crossed)\nShort 15min warm-up for boys after the girls event has concluded.\nBoys event will start following their warm-up. \nDocument Links:\n2024 AISD District Swim Meet\nDistrict-26-6A-Timeline_-_Final[1]\n26-6A_District_Warm-up_Schedule[1]\n6A_Pool_layout_2024_District_Meet(1)
URL:https://bowieswimming.org/event/district-26-6a-diving-championship-meet/
LOCATION:Round Rock Aquatic Center\, 2801 Gattis School Road\, Round Rock\, TX\, 78664\, United States
CATEGORIES:Swim/Dive Meets
END:VEVENT
BEGIN:VEVENT
DTSTART;VALUE=DATE:20240112
DTEND;VALUE=DATE:20240113
DTSTAMP:20260423T053440
CREATED:20230821T222053Z
LAST-MODIFIED:20230821T222053Z
UID:2380-1705017600-1705103999@bowieswimming.org
SUMMARY:Westlake Dive Meet
DESCRIPTION:
URL:https://bowieswimming.org/event/westlake-dive-meet/
LOCATION:Eanes Aquatic Facility\, 1301 S Capital of Texas Hwy\, Austin\, TX\, 78746\, United States
END:VEVENT
BEGIN:VEVENT
DTSTART;VALUE=DATE:20231201
DTEND;VALUE=DATE:20231203
DTSTAMP:20260423T053440
CREATED:20230831T190923Z
LAST-MODIFIED:20231106T081925Z
UID:2503-1701388800-1701561599@bowieswimming.org
SUMMARY:TISCA 2023- San Antonio
DESCRIPTION:DOCUMENTS/LINKS:\n23-24 TISCA Meet Details \nLocation: Bill Walker Pool & Josh Davis Nataorium\nBlossom Athletic Center (Northeast Stadium)\nJones-Maltsberger Road at Starcrest Drive or East Bitters Road\nSan Antonio\, TX 78216\n210-356-6925 \nNote:  There are minimum time standards for this meet. \n \n  \n  \n  \n  \n  \n  \n  \n  \n  \n  \n  \n  \n  \nSwimming Preliminaries @ Bill Walker Pools (Both days):\n– Swimmers arrive no later than 7:45 am- Please plan for extra time if you are leaving Austin Friday morning!\n– Warm Up: 8:00 am / Start: 9:45 am \nSwimming Finals @ Davis Natatorium:\n– Arrive no later than 3:45 pm\n– Warm Up: 4:00 pm /Start: 5:00 pm \nDiving Prelims and Finals @ Davis Natatorium:\n– Women’s one-meter and men’s three-meter competition on Friday\, Dec. 1:  Warm Up: 11:00am /Start: 12:00 pm\n– Women’s three-meter and men’s one-meter competition on Saturday\, Dec. 2:  Warm Up: 9:00am /Start: 10:00 am \nTransportation & Hotels:  Families travel on their own. If you are in need of carpooling help\, please reach out to Coach Carr or Hannah Lewis ASAP. \nSwimmers:\n–  Positive attitudes and fast swims only!\n–  Bring extra suits\, towels\, caps and goggles!\n–  Bring water and any necessary snacks!\n–  TOP 16 advance to Finals for individual events\n–  TOP 8 advance to Finals for relays\n–  Relays are subject to change. I will decide who swim in each relay depending on how everyone feels.\n–  Those competing Friday are excused the full B Day. \nParents/Guardians/ SPECTATORS:\nLast year’s event required ticket purchase.  Link will be posted as soon as it’s available.\n-Spectators must enter via the Davis Natatorium front doors\n-NEISD’s Clear Bag Policy (Page #9 of the Meet Details Packet) will be strictly enforced.\n-No Outside Food or Drink is permitted in the buildings. Water Refill stations are available around the facilities and the concession stand will be open. \n  \n 
URL:https://bowieswimming.org/event/tisca-2023-san-antonio/
LOCATION:Josh Davis Natatorium & Bill Walker Pool\, 12002 Jones Maltsberger Rd\, San Antonio\, TX\, 78216\, United States
CATEGORIES:Swim/Dive Meets
END:VEVENT
BEGIN:VEVENT
DTSTART;TZID=UTC:20231117T120000
DTEND;TZID=UTC:20231117T160000
DTSTAMP:20260423T053440
CREATED:20230607T030916Z
LAST-MODIFIED:20231117T220203Z
UID:2312-1700222400-1700236800@bowieswimming.org
SUMMARY:TriMeet - Bowie vs. Dripping Springs vs. Johnson
DESCRIPTION:Heat Sheet \nLocation:  Camp Moody YMCA.  Buda\, TX \nArrival Time:  12pm\nWarmups:  1pm\nMeet will end by 4pm. \n 
URL:https://bowieswimming.org/event/trimeet-bowie-vs-dripping-springs-vs-johnson/
LOCATION:Camp Moody YMCA\, 1220 Old San Antonio Rd\, Buda\, TX\, 78610\, United States
END:VEVENT
BEGIN:VEVENT
DTSTART;TZID=UTC:20231115T073000
DTEND;TZID=UTC:20231115T200000
DTSTAMP:20260423T053440
CREATED:20230814T213051Z
LAST-MODIFIED:20230814T213624Z
UID:2326-1700033400-1700078400@bowieswimming.org
SUMMARY:Freshmen Breakfast
DESCRIPTION:Each year the Bowie Swim & Dive team freshman kids host “Freshman Breakfast”. Freshman breakfast is when the freshman swimmers and parents buy/prepare and serve breakfast to the entire team! This year the Freshman Breakfast will be on Wednesday\, November 15\, 2023\, and we need 2 parents to volunteer to be the head volunteer parents for this event. Please reach out to Liz Ferguson if you’d like to volunteer!\n\nOnce we have the head volunteers\, they will send a sign-up out to all the other freshman parents so there will be lots of opportunities to help. We hope you all can come and enjoy this fun event for our Freshmen!
URL:https://bowieswimming.org/event/freshmen-breakfast-2/
LOCATION:Circle C Aquatic Center\, 5919 La Crosse Ave #100\, Austin\, TX\, 78739\, United States
END:VEVENT
BEGIN:VEVENT
DTSTART;VALUE=DATE:20231110
DTEND;VALUE=DATE:20231111
DTSTAMP:20260423T053440
CREATED:20230727T011428Z
LAST-MODIFIED:20231107T053530Z
UID:2321-1699574400-1699660799@bowieswimming.org
SUMMARY:Aggieland Swim Meet
DESCRIPTION:Aggieland Meet Info PDF\nAggieland Timeline PDF\nAggieland Psych Sheet PDF \nLOCATION:\nTexas A&M University Student Recreation Center Natatorium\n187 Corrington Drive College Station\, TX 77843\nFor more information about the TAMU Student Recreation Center Natatorium\, visit: http://recsports.tamu.edu/ \nPARKING: Parking: Parking is free on the surface lots after 5pm on Friday\, except where designated. The parking garage and the pay-by-number spaces in front of the Rec Center are never free. Teams with buses and vans should drop off their passengers at the circle drive in front of the Rec Center. The parking lot for buses will be announced Monday\, November 6\, 2023. \nTIME AND DATE:\nThis is a prelim/finals meet with A\, B finals.\nAll relays will be swum as timed finals events during finals.\nFriday\, November 10: Prelims: 9:00* – 10:15 a.m. warm-up / 10:30 a.m. start\nFinals: 5:00 – 5:45 p.m. warm-up / 6:00 p.m. start\nGirls Diving: 5:00 – 5:45 p.m. warm-up / 6:00 p.m. start\nBoys Diving: 6:30 – 7:00 p.m. warm-up / 7:00 p.m. start
URL:https://bowieswimming.org/event/aggieland-swim-meet/
LOCATION:Texas A&M\, 187 Corrington Dr\, College Station\, TX\, 77843\, United States
END:VEVENT
BEGIN:VEVENT
DTSTART;VALUE=DATE:20231027
DTEND;VALUE=DATE:20231028
DTSTAMP:20260423T053440
CREATED:20230821T223504Z
LAST-MODIFIED:20231027T071733Z
UID:2391-1698364800-1698451199@bowieswimming.org
SUMMARY:AISD Invitational
DESCRIPTION:2023_AISD_Swimming-Diving Invitational PDF\nAISD-2023-Timeline\nAISD-2023-psych-final\nAISD-2023-Heat-sheets\nAssigned Area Swim Team \nAISD Invitational at the UT Swim Center. \nMeet Style:\n-All-Timed Finals: 9:30 A.M.  5A and 6A will be seeded and swimming together\n-Two Pools will be utilized. Boys on the South end and Girls will swim on the North end.\n-Diving event (Single Round Event) for Boys and Girls (Six Dives; one dive from each of the five (5) required groups & one optional dive).\n-Divers: Warm-up (8:15 A.M.) in the Diving Well Area. \nMeet Start:\nMorning Warm-up (8:15 A.M.). All-Timed Finals: Divers Warm-up @ 8:15 \nSpectators:\nThere will be NO gate fee for spectators. Meet Program will be available on the Second floor lobby. Programs will be handled be AISD personnel. \nNo school transportation.\nCarpools encouraged.
URL:https://bowieswimming.org/event/aisd-invitational/
LOCATION:UT – Jamail Texas Swimming Center\, 1900 Red River St.\, Austin\, TX\, 78712\, United States
END:VEVENT
BEGIN:VEVENT
DTSTART;TZID=UTC:20231010T070000
DTEND;TZID=UTC:20231010T103000
DTSTAMP:20260423T053440
CREATED:20231003T055544Z
LAST-MODIFIED:20231007T010913Z
UID:2862-1696921200-1696933800@bowieswimming.org
SUMMARY:Dripping Springs vs Bowie Dual Meet
DESCRIPTION:2023Drip vs Bowie Meet Info \nTEAMS: Dripping Springs & Bowie\nDATE: Tuesday October 10\, 2023 \nLOCATION: Dripping Springs Family YMCA 27216 Ranch Rd 12 Dripping Springs\, TX 78620\nPARKING:  By the tennis courts OR at the fields across the street. You CANNOT park in front of the main YMCA building. \nEVENTS: Standard 24 Event Format Awards\, NO DIVING \nSCHEDULE:\nWarm-ups: DRIP – 7:00am-7:25am BOWIE – 7:25am-7:50am\nStart: 8:00 am\nEnd time: 10am ish (this is a QUICK meet) \nTRANSPORTATION: Still no word on a bus for this meet. If any swimmers need help getting to/from the meet in the \, please reach out ASAP. \nSCHOOL/EXCUSED: All competing swimmers will be excused for 1/2 a day only. Everyone is expected to go to school after the meet (by 1:20/ 7th period at the latest). \nENTRIES: Every athlete is entered in this meet (unless they communicated that plan to attend a full day of school). \nMEALS: All athletes will be provided food at the end of the meet! \nSpectators & Volunteering: All are welcome to attend! Our team needs to provide two timers for the meet.\nSpectator admission is free.  See meet info pdf for parking map.
URL:https://bowieswimming.org/event/dripping-springs-vs-bowie/
LOCATION:Dripping Springs YMCA\, 27216 Ranch Rd 12\, Dripping Springs\, TX\, 78620\, United States
END:VEVENT
BEGIN:VEVENT
DTSTART;TZID=UTC:20231005T074500
DTEND;TZID=UTC:20231005T143000
DTSTAMP:20260423T053440
CREATED:20230607T030807Z
LAST-MODIFIED:20231003T193700Z
UID:2310-1696491900-1696516200@bowieswimming.org
SUMMARY:MavWood Invitational
DESCRIPTION:Meet PDF Documents:\nMavWood_Invite_2023\n2023-MavWood-Warm-Up and Meet diagrams\n2023-MavWood-timeline (9_30_23)\n2023-MavWood-Seating – Inclement Weather\n2023-MavWood-psych sheet (9_30_23)\n2023-MavWood-heat sheet w combos (9_30_23)\n \nLocation:  Round Rock Aquatic Center\, 2801 Gattis School Road\, Round Rock\, TX 78664 \nTimeline:\nDiver arrival: 7:30 am\nDiving Warm Up: 7:30 am\nSwimmer Arrival: 7:30 am\nSwimmer Warm Up: 8:05am\nOfficials meeting: 8:00 a.m.\nTimer briefing: 8:40 a.m.\nCoaches/Captains meeting: 8:40 a.m.\nSwim Competition Start: 9:00\nDiving Competition: after Mens 50 fr around 11am\nEnd time:TBD-around 2:30pm \nVolunteer Requirements:\nEach team is responsible for supplying 2 timers for the duration of the meet.\nTiming assignments will be included with the warm-up info. The meet will not proceed until all teams have supplied their timers. \nTransportation & School: We were denied an AISD bus for this meet and the coaches are unable to find a driver. Please reach out if your swimmer needs a ride. A carpool email was sent out before this!
URL:https://bowieswimming.org/event/mavwood-invitational-2/
LOCATION:Round Rock Aquatic Center\, 2801 Gattis School Road\, Round Rock\, TX\, 78664\, United States
END:VEVENT
BEGIN:VEVENT
DTSTART;TZID=UTC:20230929T070000
DTEND;TZID=UTC:20230929T160000
DTSTAMP:20260423T053440
CREATED:20230607T030619Z
LAST-MODIFIED:20230925T195137Z
UID:2308-1695970800-1696003200@bowieswimming.org
SUMMARY:District Sprint Meet
DESCRIPTION:DOCUMENTS:\n2023 District 26-6A Sprint Meet Meeting Information PDF \nFacility:\nEanes Aquatic Center\n4300 Westbank Drive\, Unit 4\nWest Lake Hills\, TX 78746 \nSchedule: Friday\, September 23rd\n7:00-7:30am -Teams Can Enter the building (not prior to 7).\n7:30-7:50am – Diving warm-up.\n7:55am – Diving Meeting\n8:00am-9:00am Diving Competition\n9:10-10:00am Swimming Warm-up\n9:30 Timers meeting\n10:05am Officials/Head Coaches Meeting\n10:15am Swimming Competition\nEstimate meet to wrap up at 2pm.\nNote: We must finish by 3:20\, clean and clear the facility by 3:55pm. \nTransportation & School: We were denied an AISD bus for this meet and the coaches are still trying to find a driver. At this point\, please provide your own transportation. Please reach out to the coaches if you need help with carpooling! All athletes competing are excused from the full school day. If you want to leave the meet early\, you need permission in advance from Coach Carr or Coach Langbehn and are expected to return to school. \nEvents\nDivers: 3 1-meter dive list: See Coach Carr or Coach Langbehn to get your dive sheet.\nSwimmers: Sprint meet (not a typical HS meet) \nEntries\nEvery athlete is entered in this meet (unless they communicated that plan to attend a full day of school). Swimmers may sign up for specific individual events\, but there are no guarantees. The coaches will notify swimmers of their events prior to the meet.  All swimmers will be in 3 individual events and up to 2 relays. \nMeals\nAll athletes will be provided a light breakfast\, snacks\, water and lunch. The coaches will take lunch orders next week! THERE WILL BE NO CONCESSIONS AT THIS MEET SO PLEASE BRING ANY EXTRA WATER/ SNACKS YOU MAY NEED. \nHeat Sheet:  A heat sheet and timeline will be provided by 12:00 Wednesday\, September 27th. \nMeet Mobile: The meet and heat sheet will be published to Meet Mobile. \nHospitality: Hospitality will be provided for coaches and volunteers. \nSpectators:\n– Spectator fee is 4.00/person and can be paid via cash at the meet.\n– Spectators must enter through the enclosed tents only.\n– Spectator can sit on the bleachers on the parking lot side of the pool/utilize the tents for additional seating. Spectators will need to bring their own chairs for outside deck.\n– Spectators can utilize the Adult Restrooms only. Locker Rooms are reserved for students only. \nLocker rooms: Locker rooms will be reserved for athletes only. Coaches will have access to the coaching bathroom located inside the office during the meet. No cell phones/shaving allowed in the locker rooms. \nTeam Seating: Team seating will be assigned\, with additional seating on our back lawn.  Please bring your own tents and chairs to set up if you would like to use the back lawn area. Please have your teams clean up their area upon completion of the meet. Playground is closed during the event. \nTimers: Each team will need to provide 2 timers. Please send me their emails prior to 9/20/23 as they do require a background check. \nParking: A map and further information on parking will be provided with the heat
URL:https://bowieswimming.org/event/district-sprint-meet/
LOCATION:Eanes Aquatic Facility\, 1301 S Capital of Texas Hwy\, Austin\, TX\, 78746\, United States
END:VEVENT
BEGIN:VEVENT
DTSTART;TZID=UTC:20230920T063000
DTEND;TZID=UTC:20230920T200000
DTSTAMP:20260423T053440
CREATED:20230821T223115Z
LAST-MODIFIED:20230821T223233Z
UID:2387-1695191400-1695240000@bowieswimming.org
SUMMARY:Red vs Black Meet
DESCRIPTION:Get Ready for the 2023-2024 intrasquad\, pre-season matchup between the Rad and Black.  Team captains will draft their teams and then it’s off to the races!
URL:https://bowieswimming.org/event/red-vs-black-meet/
LOCATION:Circle C Aquatic Center\, 5919 La Crosse Ave #100\, Austin\, TX\, 78739\, United States
END:VEVENT
BEGIN:VEVENT
DTSTART;TZID=UTC:20230906T060000
DTEND;TZID=UTC:20230906T100000
DTSTAMP:20260423T053440
CREATED:20230821T222349Z
LAST-MODIFIED:20230821T222654Z
UID:2382-1693980000-1693994400@bowieswimming.org
SUMMARY:King and Queen of Barton Springs
DESCRIPTION:Location:  Barton Springs Pool \nThere is no school transportation.\nCarpools encouraged.
URL:https://bowieswimming.org/event/king-and-queen-of-barton-springs/
LOCATION:Barton Springs Pool\, 2131 William Barton Dr.\, Austin\, Texa\, 78746
END:VEVENT
BEGIN:VEVENT
DTSTART;TZID=UTC:20230826T170000
DTEND;TZID=UTC:20230826T200000
DTSTAMP:20260423T053440
CREATED:20230607T031045Z
LAST-MODIFIED:20230607T031120Z
UID:2314-1693069200-1693080000@bowieswimming.org
SUMMARY:Bulldogs and Hotdogs
DESCRIPTION:
URL:https://bowieswimming.org/event/bulldogs-and-hotdogs/
LOCATION:Bowie High School\, 4103 W. Slaughter Lane\, Austin\, 78748\, United States
END:VEVENT
BEGIN:VEVENT
DTSTART;TZID=UTC:20230824T170000
DTEND;TZID=UTC:20230824T190000
DTSTAMP:20260423T053440
CREATED:20230823T181541Z
LAST-MODIFIED:20230824T183019Z
UID:2405-1692896400-1692903600@bowieswimming.org
SUMMARY:Bowie Swim and Dive Parent and Swimmer Meeting
DESCRIPTION:2023-2024 Bowie Swim and Dive Parent and Swimmer Meeting.\nBowie High School Cafeteria from 5pm – 7pm. \nPlease review the swim handbook prior to the meeting. \nMembership dues will be due at this meeting Swimmers $225 Divers $165.\nPayments can be made by check\, cash or school cash online.
URL:https://bowieswimming.org/event/parent-orientation-meeting/
LOCATION:Bowie High School\, 4103 W. Slaughter Lane\, Austin\, 78748\, United States
END:VEVENT
BEGIN:VEVENT
DTSTART;TZID=UTC:20230821T063000
DTEND;TZID=UTC:20230821T200000
DTSTAMP:20260423T053440
CREATED:20230814T215403Z
LAST-MODIFIED:20230814T215456Z
UID:2342-1692599400-1692648000@bowieswimming.org
SUMMARY:First Day of Practice!!
DESCRIPTION:First Day of Practice!\nLet’s Go Dawgs!!
URL:https://bowieswimming.org/event/team-tryouts-make-up-session/
LOCATION:Circle C Aquatic Center\, 5919 La Crosse Ave #100\, Austin\, TX\, 78739\, United States
END:VEVENT
BEGIN:VEVENT
DTSTART;TZID=UTC:20230821T063000
DTEND;TZID=UTC:20230821T193000
DTSTAMP:20260423T053440
CREATED:20230814T215619Z
LAST-MODIFIED:20230814T215619Z
UID:2345-1692599400-1692646200@bowieswimming.org
SUMMARY:Team Tryouts (Make-up Session)
DESCRIPTION:Late/Make-up Team tryouts. \nCircle C Pool.
URL:https://bowieswimming.org/event/team-tryouts-make-up-session-2/
LOCATION:Circle C Aquatic Center\, 5919 La Crosse Ave #100\, Austin\, TX\, 78739\, United States
END:VEVENT
END:VCALENDAR