BEGIN:VCALENDAR
VERSION:2.0
PRODID:-//Bowie Swim &amp; Dive - ECPv6.15.20//NONSGML v1.0//EN
CALSCALE:GREGORIAN
METHOD:PUBLISH
X-WR-CALNAME:Bowie Swim &amp; Dive
X-ORIGINAL-URL:https://bowieswimming.org
X-WR-CALDESC:Events for Bowie Swim &amp; Dive
REFRESH-INTERVAL;VALUE=DURATION:PT1H
X-Robots-Tag:noindex
X-PUBLISHED-TTL:PT1H
BEGIN:VTIMEZONE
TZID:America/Chicago
BEGIN:DAYLIGHT
TZOFFSETFROM:-0600
TZOFFSETTO:-0500
TZNAME:CDT
DTSTART:20240310T080000
END:DAYLIGHT
BEGIN:STANDARD
TZOFFSETFROM:-0500
TZOFFSETTO:-0600
TZNAME:CST
DTSTART:20241103T070000
END:STANDARD
BEGIN:DAYLIGHT
TZOFFSETFROM:-0600
TZOFFSETTO:-0500
TZNAME:CDT
DTSTART:20250309T080000
END:DAYLIGHT
BEGIN:STANDARD
TZOFFSETFROM:-0500
TZOFFSETTO:-0600
TZNAME:CST
DTSTART:20251102T070000
END:STANDARD
BEGIN:DAYLIGHT
TZOFFSETFROM:-0600
TZOFFSETTO:-0500
TZNAME:CDT
DTSTART:20260308T080000
END:DAYLIGHT
BEGIN:STANDARD
TZOFFSETFROM:-0500
TZOFFSETTO:-0600
TZNAME:CST
DTSTART:20261101T070000
END:STANDARD
END:VTIMEZONE
BEGIN:VEVENT
DTSTART;TZID=America/Chicago:20251205T080000
DTEND;TZID=America/Chicago:20251206T160000
DTSTAMP:20260422T215433
CREATED:20250823T200603Z
LAST-MODIFIED:20251206T180701Z
UID:3708-1764921600-1765036800@bowieswimming.org
SUMMARY:Bowie Swim Boosters - TISCA
DESCRIPTION:
URL:https://bowieswimming.org/event/bowie-swim-boosters-tisca/
LOCATION:Josh Davis Natatorium & Bill Walker Pool San Antonio\, San Antonio\, TX\, United States
END:VEVENT
BEGIN:VEVENT
DTSTART;TZID=America/Chicago:20251204T180000
DTEND;TZID=America/Chicago:20251204T180000
DTSTAMP:20260422T215433
CREATED:20251110T170413Z
LAST-MODIFIED:20251204T180409Z
UID:4119-1764871200-1764871200@bowieswimming.org
SUMMARY:Bowie Swim & Dive - TISCA
DESCRIPTION:
URL:https://bowieswimming.org/event/bowie-swim-dive-tisca/
END:VEVENT
BEGIN:VEVENT
DTSTART;TZID=America/Chicago:20251121T100000
DTEND;TZID=America/Chicago:20251121T150000
DTSTAMP:20260422T215433
CREATED:20251022T232059Z
LAST-MODIFIED:20251121T171913Z
UID:4080-1763719200-1763737200@bowieswimming.org
SUMMARY:Bowie Swim Boosters - Hays CISD Nitro Swim Invitational
DESCRIPTION:
URL:https://bowieswimming.org/event/bowie-swim-boosters-hays-cisd-nitro-swim-invitational/
LOCATION:Nitro Swimming – Kyle\, 7201 Dix Rd\, Kingsbury\, TX\, United States
END:VEVENT
BEGIN:VEVENT
DTSTART;TZID=America/Chicago:20251121T100000
DTEND;TZID=America/Chicago:20251121T150000
DTSTAMP:20260422T215433
CREATED:20251022T232058Z
LAST-MODIFIED:20251121T171913Z
UID:4079-1763719200-1763737200@bowieswimming.org
SUMMARY:Bowie Swim & Dive - Hays CISD Swim Invitational
DESCRIPTION:
URL:https://bowieswimming.org/event/bowie-swim-dive-hays-cisd-nitro-swim-invitational/
LOCATION:Nitro Swimming – Kyle\, 7201 Dix Rd\, Kingsbury\, TX\, United States
END:VEVENT
BEGIN:VEVENT
DTSTART;TZID=America/Chicago:20251118T170000
DTEND;TZID=America/Chicago:20251118T200000
DTSTAMP:20260422T215433
CREATED:20251113T170443Z
LAST-MODIFIED:20251118T170417Z
UID:4130-1763485200-1763496000@bowieswimming.org
SUMMARY:Bowie Swim Boosters - Cane’s Spirit Night
DESCRIPTION:Mention the fundraiser at the Restaurant or apply code RCFUND96 to online or app orders at checkout\nand Cane’s will donate 15% of Net Sales* to the Bowie Swim & Dive team.
URL:https://bowieswimming.org/event/bowie-swim-boosters-canes-spirit-night/
LOCATION:Raising Cane’s Chicken Fingers Sunset Valley\, Austin\, TX\, United States
END:VEVENT
BEGIN:VEVENT
DTSTART;TZID=America/Chicago:20251112T170000
DTEND;TZID=America/Chicago:20251112T200000
DTSTAMP:20260422T215433
CREATED:20251110T170412Z
LAST-MODIFIED:20251112T170503Z
UID:4118-1762966800-1762977600@bowieswimming.org
SUMMARY:Bowie Swim Boosters - DoubleDave's Spirit Night (Arbor Trails Location)
DESCRIPTION:
URL:https://bowieswimming.org/event/bowie-swim-boosters-doubledaves-spirit-night-arbor-trails-location/
END:VEVENT
BEGIN:VEVENT
DTSTART;TZID=America/Chicago:20251111T093000
DTEND;TZID=America/Chicago:20251111T123000
DTSTAMP:20260422T215433
CREATED:20251008T221912Z
LAST-MODIFIED:20251111T170435Z
UID:4025-1762853400-1762864200@bowieswimming.org
SUMMARY:Bowie Swim & Dive - Last Chance Meet (TISCA Qualifying attempts)
DESCRIPTION:
URL:https://bowieswimming.org/event/bowie-swim-dive-last-chance-meet-tisca-qualifying-attempts/
LOCATION:Eanes Aquatics Center\, 901 Westbank Dr\, Austin\, TX\, United States
END:VEVENT
BEGIN:VEVENT
DTSTART;TZID=America/Chicago:20251111T093000
DTEND;TZID=America/Chicago:20251111T123000
DTSTAMP:20260422T215433
CREATED:20250826T201949Z
LAST-MODIFIED:20251111T170435Z
UID:3728-1762853400-1762864200@bowieswimming.org
SUMMARY:Bowie Swim Boosters - Last Chance Meet (TISCA Qualifying attempts)
DESCRIPTION:
URL:https://bowieswimming.org/event/bowie-swim-boosters-westlake-meet/
END:VEVENT
BEGIN:VEVENT
DTSTART;TZID=America/Chicago:20251108T061000
DTEND;TZID=America/Chicago:20251108T234500
DTSTAMP:20260422T215433
CREATED:20250918T213707Z
LAST-MODIFIED:20251108T170420Z
UID:3855-1762582200-1762645500@bowieswimming.org
SUMMARY:Bowie Swim & Dive - AGGIELAND
DESCRIPTION:
URL:https://bowieswimming.org/event/bowie-swim-dive-aggieland/
LOCATION:Student Recreation Center\, 101 Krenek Tap Rd\, College Station\, TX\, United States
END:VEVENT
BEGIN:VEVENT
DTSTART;TZID=America/Chicago:20251108T053000
DTEND;TZID=America/Chicago:20251108T234500
DTSTAMP:20260422T215433
CREATED:20250823T200603Z
LAST-MODIFIED:20251108T170421Z
UID:3706-1762579800-1762645500@bowieswimming.org
SUMMARY:Bowie Swim Boosters - Aggieland
DESCRIPTION:
URL:https://bowieswimming.org/event/bowie-swim-boosters-aggieland/
LOCATION:Texas A&M
END:VEVENT
BEGIN:VEVENT
DTSTART;TZID=America/Chicago:20251107T080000
DTEND;TZID=America/Chicago:20251107T120000
DTSTAMP:20260422T215433
CREATED:20250918T213706Z
LAST-MODIFIED:20251107T170422Z
UID:3854-1762502400-1762516800@bowieswimming.org
SUMMARY:Bowie Swim & Dive - Westlake Dive Invite!
DESCRIPTION:
URL:https://bowieswimming.org/event/bowie-swim-dive-westlake-dive-invite/
LOCATION:Eanes Aquatics Center\, 901 Westbank Dr\, Austin\, TX\, United States
END:VEVENT
BEGIN:VEVENT
DTSTART;TZID=America/Chicago:20251106T183000
DTEND;TZID=America/Chicago:20251106T213000
DTSTAMP:20260422T215433
CREATED:20251016T224915Z
LAST-MODIFIED:20251106T170446Z
UID:4068-1762453800-1762464600@bowieswimming.org
SUMMARY:Bowie Swim Boosters - Aggieland Swimmer Dinner
DESCRIPTION:
URL:https://bowieswimming.org/event/bowie-swim-boosters-aggieland-swimmer-dinner/
LOCATION:TBD
END:VEVENT
BEGIN:VEVENT
DTSTART;TZID=America/Chicago:20251106T183000
DTEND;TZID=America/Chicago:20251106T210000
DTSTAMP:20260422T215433
CREATED:20251103T170420Z
LAST-MODIFIED:20251106T170446Z
UID:4107-1762453800-1762462800@bowieswimming.org
SUMMARY:Bowie Swim & Dive - Aggieland Dinner
DESCRIPTION:ATTENDANCE IS HIGHLY ENCOURAGED – swimmers only! Parents we love you\, but this is just for the swimmers!
URL:https://bowieswimming.org/event/bowie-swim-dive-aggieland-dinner/
LOCATION:6400 Trissino Dr\, Austin\, TX\, United States
END:VEVENT
BEGIN:VEVENT
DTSTART;TZID=America/Chicago:20251031T090000
DTEND;TZID=America/Chicago:20251031T150000
DTSTAMP:20260422T215433
CREATED:20250918T213706Z
LAST-MODIFIED:20250924T215140Z
UID:3853-1761901200-1761922800@bowieswimming.org
SUMMARY:Bowie Swim & Dive - Greater Austin YMCA High School Swim Invitational
DESCRIPTION:More info to come\, Meet Info attached
URL:https://bowieswimming.org/event/bowie-swim-dive-greater-austin-ymca-high-school-swim-invitational/
LOCATION:YMCA Camp Moody\, 900 Old San Antonio Rd\, Buda\, TX\, United States
END:VEVENT
BEGIN:VEVENT
DTSTART;TZID=America/Chicago:20251031T090000
DTEND;TZID=America/Chicago:20251031T140000
DTSTAMP:20260422T215433
CREATED:20251008T221911Z
LAST-MODIFIED:20251031T170426Z
UID:4023-1761901200-1761919200@bowieswimming.org
SUMMARY:Bowie Swim & Dive - Greater Austin Y Invitational
DESCRIPTION:See attached meet invite for details
URL:https://bowieswimming.org/event/bowie-swim-dive-greater-austin-y-invitational/
LOCATION:YMCA Camp Moody\, 900 Old San Antonio Rd\, Buda\, TX\, United States
END:VEVENT
BEGIN:VEVENT
DTSTART;TZID=America/Chicago:20251031T090000
DTEND;TZID=America/Chicago:20251031T140000
DTSTAMP:20260422T215433
CREATED:20251008T221911Z
LAST-MODIFIED:20251031T170427Z
UID:4024-1761901200-1761919200@bowieswimming.org
SUMMARY:Bowie Swim Boosters - Greater Austin Y Invitational
DESCRIPTION:
URL:https://bowieswimming.org/event/bowie-swim-boosters-greater-austin-y-invitational/
LOCATION:YMCA Camp Moody\, 900 Old San Antonio Rd\, Buda\, TX\, United States
END:VEVENT
BEGIN:VEVENT
DTSTART;TZID=America/Chicago:20251031T080000
DTEND;TZID=America/Chicago:20251031T120000
DTSTAMP:20260422T215433
CREATED:20250823T200603Z
LAST-MODIFIED:20250827T201959Z
UID:3704-1761897600-1761912000@bowieswimming.org
SUMMARY:Bowie Swim Boosters - AISD Invite Meet
DESCRIPTION:
URL:https://bowieswimming.org/event/bowie-swim-boosters-aisd-invite-meet/
LOCATION:Lee and Joe Jamail Texas Swimming Center Austin\, Austin\, TX\, United States
END:VEVENT
BEGIN:VEVENT
DTSTART;TZID=America/Chicago:20251030T163000
DTEND;TZID=America/Chicago:20251030T200000
DTSTAMP:20260422T215433
CREATED:20250925T214915Z
LAST-MODIFIED:20251007T221912Z
UID:3866-1761841800-1761854400@bowieswimming.org
SUMMARY:Bowie Swim & Dive - Quad Meet @ Westlake
DESCRIPTION:
URL:https://bowieswimming.org/event/bowie-swim-dive-quad-meet-westlake/
LOCATION:Eanes Aquatics Center\, 901 Westbank Dr\, Austin\, TX\, United States
END:VEVENT
BEGIN:VEVENT
DTSTART;TZID=America/Chicago:20251030T080000
DTEND;TZID=America/Chicago:20251030T130000
DTSTAMP:20260422T215433
CREATED:20250902T204957Z
LAST-MODIFIED:20251007T221912Z
UID:3773-1761811200-1761829200@bowieswimming.org
SUMMARY:Bowie Swim Boosters - Swim Meet: Westlake Invite
DESCRIPTION:Westlake Meet time TBD
URL:https://bowieswimming.org/event/bowie-swim-boosters-swim-meet-westlake-invite/
LOCATION:Westlake Athletic & Community Center\, 901 Westbank Dr\, Austin\, TX\, United States
END:VEVENT
BEGIN:VEVENT
DTSTART;TZID=America/Chicago:20251024T110000
DTEND;TZID=America/Chicago:20251024T160000
DTSTAMP:20260422T215433
CREATED:20251005T220638Z
LAST-MODIFIED:20251023T232902Z
UID:3959-1761303600-1761321600@bowieswimming.org
SUMMARY:Bowie Swim Boosters - Quad Meet in Round Rock
DESCRIPTION:
URL:https://bowieswimming.org/event/bowie-swim-boosters-meet-in-round-rock/
LOCATION:Micki Krebsbach Swimming Pool\, 301 Deep Wood Dr\, Round Rock\, TX\, United States
END:VEVENT
BEGIN:VEVENT
DTSTART;TZID=America/Chicago:20251024T110000
DTEND;TZID=America/Chicago:20251024T150000
DTSTAMP:20260422T215433
CREATED:20251008T221910Z
LAST-MODIFIED:20251023T232902Z
UID:4022-1761303600-1761318000@bowieswimming.org
SUMMARY:Bowie Swim & Dive - Quad Meet
DESCRIPTION:One challenge that resulted from the rise of big business and how the federal government addressed the challenge by passing laws\, for example\, creating monopolies or unfairly controlling entire industries to regulate business and promote fair competition.
URL:https://bowieswimming.org/event/bowie-swim-dive-quad-meet/
LOCATION:Micki Krebsbach Swimming Pool\, 301 Deep Wood Dr\, Round Rock\, TX\, United States
END:VEVENT
BEGIN:VEVENT
DTSTART;TZID=America/Chicago:20251009T080000
DTEND;TZID=America/Chicago:20251009T110000
DTSTAMP:20260422T215433
CREATED:20250823T200602Z
LAST-MODIFIED:20251008T221910Z
UID:3702-1759996800-1760007600@bowieswimming.org
SUMMARY:Bowie Swim Boosters - Dripping Spring Meet
DESCRIPTION:
URL:https://bowieswimming.org/event/bowie-swim-boosters-dripping-spring-meet/
LOCATION:YMCA  27216 RM-12 Dripping Springs\, Dripping Springs\, TX\, United States
END:VEVENT
BEGIN:VEVENT
DTSTART;TZID=America/Chicago:20251009T070000
DTEND;TZID=America/Chicago:20251009T100000
DTSTAMP:20260422T215433
CREATED:20250910T210422Z
LAST-MODIFIED:20251008T221910Z
UID:3805-1759993200-1760004000@bowieswimming.org
SUMMARY:Bowie Swim & Dive - Drip v. Bowie
DESCRIPTION:➢Unlimited entries for 50 Free and 100 Free\n➢ 4 entries max in all other individual events\n➢ Four(4) entries max in Relay Events\nswimmers will be excused for 5th and 6th ONLY. Swimmers must be back in school by 1:29pm.\nMore details to come.
URL:https://bowieswimming.org/event/bowie-swim-drip-v-bowie-2/
LOCATION:Springs Family YMCA\, 22503 Ranch Rd 12\, San Marcos\, TX\, United States
END:VEVENT
BEGIN:VEVENT
DTSTART;TZID=America/Chicago:20251002T073000
DTEND;TZID=America/Chicago:20251002T163000
DTSTAMP:20260422T215433
CREATED:20250910T210422Z
LAST-MODIFIED:20251001T220425Z
UID:3804-1759390200-1759422600@bowieswimming.org
SUMMARY:Bowie Swim & Dive - MavWood Invite
DESCRIPTION:Please see attached for more info. Meet logistics will be announced Monday 9/29
URL:https://bowieswimming.org/event/bowie-swim-mavwood-invite-2/
LOCATION:RRISD Aquatic Center\, 1000 Gattis School Rd\, Round Rock\, TX\, United States
END:VEVENT
BEGIN:VEVENT
DTSTART;TZID=America/Chicago:20251002T070000
DTEND;TZID=America/Chicago:20251002T120000
DTSTAMP:20260422T215433
CREATED:20250823T200602Z
LAST-MODIFIED:20251001T220425Z
UID:3700-1759388400-1759406400@bowieswimming.org
SUMMARY:Bowie Swim Boosters - Mavwood Meet
DESCRIPTION:
URL:https://bowieswimming.org/event/bowie-swim-boosters-mavwood-meet/
LOCATION:2801 Gattis School Rd Round Rock\, Round Rock\, TX\, United States
END:VEVENT
BEGIN:VEVENT
DTSTART;TZID=America/Chicago:20250924T084500
DTEND;TZID=America/Chicago:20250924T134500
DTSTAMP:20260422T215433
CREATED:20250823T200602Z
LAST-MODIFIED:20250923T214921Z
UID:3698-1758703500-1758721500@bowieswimming.org
SUMMARY:Bowie Swim Boosters - Westlake Sprint Meet
DESCRIPTION:
URL:https://bowieswimming.org/event/bowie-swim-boosters-westlake-sprint-meet/
LOCATION:4300 Westbank Drive Austin\, Austin\, TX\, United States
END:VEVENT
BEGIN:VEVENT
DTSTART;TZID=America/Chicago:20250924T081000
DTEND;TZID=America/Chicago:20250924T122500
DTSTAMP:20260422T215433
CREATED:20250910T210421Z
LAST-MODIFIED:20250923T214921Z
UID:3803-1758701400-1758716700@bowieswimming.org
SUMMARY:Bowie Swim & Dive - District Sprint Meet
DESCRIPTION:
URL:https://bowieswimming.org/event/bowie-swim-district-sprint-meet-2/
LOCATION:Eanes Aquatics Center\, 901 Westbank Dr\, Austin\, TX\, United States
END:VEVENT
BEGIN:VEVENT
DTSTART;TZID=America/Chicago:20250923T130000
DTEND;TZID=America/Chicago:20250923T150000
DTSTAMP:20260422T215433
CREATED:20250828T202028Z
LAST-MODIFIED:20250922T214918Z
UID:3737-1758632400-1758639600@bowieswimming.org
SUMMARY:Bowie Swim Boosters - Team Building Event at Cidercade
DESCRIPTION:Swimmers are responsible for their own cost and transportation to the event.
URL:https://bowieswimming.org/event/bowie-swim-boosters-team-building-event-at-cidercade/
LOCATION:Cidercade Austin\, 385 E Riverside Dr\, Austin\, TX\, United States
END:VEVENT
BEGIN:VEVENT
DTSTART;TZID=America/Chicago:20250917T070000
DTEND;TZID=America/Chicago:20250917T080000
DTSTAMP:20260422T215433
CREATED:20250910T210421Z
LAST-MODIFIED:20250916T212049Z
UID:3802-1758092400-1758096000@bowieswimming.org
SUMMARY:Bowie Swim - Red vs. Black
DESCRIPTION:Teams will be decided by the Captains and announced on 9/15
URL:https://bowieswimming.org/event/bowie-swim-red-vs-black/
LOCATION:Circle C Swim Center\, 4801 la Crosse Ave\, Austin\, TX\, United States
END:VEVENT
BEGIN:VEVENT
DTSTART;TZID=America/Chicago:20250917T070000
DTEND;TZID=America/Chicago:20250917T080000
DTSTAMP:20260422T215433
CREATED:20250828T202027Z
LAST-MODIFIED:20250916T212049Z
UID:3735-1758092400-1758096000@bowieswimming.org
SUMMARY:Bowie Swim Boosters - Swim Meet: Red vs Black
DESCRIPTION:
URL:https://bowieswimming.org/event/bowie-swim-boosters-swim-meet-red-vs-black/
LOCATION:Circle C Swim Center\, 4801 la Crosse Ave\, Austin\, TX\, United States
END:VEVENT
END:VCALENDAR