BEGIN:VCALENDAR
VERSION:2.0
PRODID:-//Bowie Swim &amp; Dive - ECPv6.15.20//NONSGML v1.0//EN
CALSCALE:GREGORIAN
METHOD:PUBLISH
X-WR-CALNAME:Bowie Swim &amp; Dive
X-ORIGINAL-URL:https://bowieswimming.org
X-WR-CALDESC:Events for Bowie Swim &amp; Dive
REFRESH-INTERVAL;VALUE=DURATION:PT1H
X-Robots-Tag:noindex
X-PUBLISHED-TTL:PT1H
BEGIN:VTIMEZONE
TZID:UTC
BEGIN:STANDARD
TZOFFSETFROM:+0000
TZOFFSETTO:+0000
TZNAME:UTC
DTSTART:20240101T000000
END:STANDARD
END:VTIMEZONE
BEGIN:VEVENT
DTSTART;VALUE=DATE:20250221
DTEND;VALUE=DATE:20250223
DTSTAMP:20260424T032638
CREATED:20240813T193240Z
LAST-MODIFIED:20240813T193240Z
UID:3019-1740096000-1740268799@bowieswimming.org
SUMMARY:Texas UIL 6A Swim and Dive Championship
DESCRIPTION:
URL:https://bowieswimming.org/event/texas-uil-6a-swim-and-dive-championship/
LOCATION:TX
CATEGORIES:Swim/Dive Meets
END:VEVENT
END:VCALENDAR