BEGIN:VCALENDAR
VERSION:2.0
PRODID:-//Bowie Swim &amp; Dive - ECPv6.15.20//NONSGML v1.0//EN
CALSCALE:GREGORIAN
METHOD:PUBLISH
X-WR-CALNAME:Bowie Swim &amp; Dive
X-ORIGINAL-URL:https://bowieswimming.org
X-WR-CALDESC:Events for Bowie Swim &amp; Dive
REFRESH-INTERVAL;VALUE=DURATION:PT1H
X-Robots-Tag:noindex
X-PUBLISHED-TTL:PT1H
BEGIN:VTIMEZONE
TZID:UTC
BEGIN:STANDARD
TZOFFSETFROM:+0000
TZOFFSETTO:+0000
TZNAME:UTC
DTSTART:20240101T000000
END:STANDARD
END:VTIMEZONE
BEGIN:VEVENT
DTSTART;VALUE=DATE:20250207
DTEND;VALUE=DATE:20250209
DTSTAMP:20260424T032730
CREATED:20240813T193136Z
LAST-MODIFIED:20250204T221158Z
UID:3017-1738886400-1739059199@bowieswimming.org
SUMMARY:Region 7-6A Swim and Dive Championship
DESCRIPTION:2025 Region VII-6A Psych Sheet \n2025 Region VII-6A Timeline \nLocation: \nJosh Davis Natatorium\n12002 Jones-Maltsberger Road\nSan Antonio\, TX 78216 \nFriday\, February 7th – Preliminaries – Josh Davis Natatorium: \n\nDoors open: 7:15 AM\nCoaches meet: 7:30 AM (Josh Davis Deck-Level Classroom)\nWarm-ups begin: 8:00 AM\nOfficials meet: 8:30 AM (Josh Davis Deck-Level Classroom)\nSprint lanes (2-7) and Push/Pace lanes (1 and 8): 9:00 AM\nCompetition pool cleared: 9:20 AM\nNational Anthem: 9:25 AM\nCompetition begins: 9:30 AM\n\n\nSaturday\, February 8th – Finals – Josh Davis Natatorium: \n\nDoors open: 7:15 AM\nWarm-ups begin: 8:00 AM\nOfficials meet: 8:30 AM (Josh Davis Deck-Level Classroom)\nSprint lanes (2-7) and Push/Pace lanes (1 and 8): 9:00 AM\nCompetition pool cleared: 9:20 AM\nNational Anthem: 9:25 AM\nCompetition begins: 9:30 AM
URL:https://bowieswimming.org/event/region-7-6a-swim-and-dive-championship-3/
LOCATION:12002 Jones Maltsberger Road\, San Antonio\, TX\, United States
CATEGORIES:Swim/Dive Meets
END:VEVENT
END:VCALENDAR